BEGIN:VCALENDAR
VERSION:2.0
PRODID:-//eventon.com NONSGML v1.0//EN
CALSCALE:GREGORIAN
METHOD:PUBLISH
BEGIN:VEVENT
UID:69e73542370f1
DTSTAMP:20260421T082850Z
DTSTART:20251024T200000Z
DTEND:20251024T210000Z
LOCATION:Downtown Newburyport
SUMMARY:Downtown Trick-or-Treat
DESCRIPTION:Stop by the Newburyport Downtown shops and trick or treat!Multi
 ple retailers and restaurants are participating!\nhttps://hauntedhappenings
 marketplace.com/events/downtown-trick-or-treat-2/
URL:https://hauntedhappeningsmarketplace.com/events/downtown-trick-or-treat-2/
END:VEVENT
END:VCALENDAR